BEGIN:VCALENDAR
VERSION:2.0
PRODID:-//Základní škola Na Habru Hořice - ECPv6.2.9//NONSGML v1.0//EN
CALSCALE:GREGORIAN
METHOD:PUBLISH
X-WR-CALNAME:Základní škola Na Habru Hořice
X-ORIGINAL-URL:https://www.nahabru.cz
X-WR-CALDESC:Akce na Základní škola Na Habru Hořice
REFRESH-INTERVAL;VALUE=DURATION:PT1H
X-Robots-Tag:noindex
X-PUBLISHED-TTL:PT1H
BEGIN:VTIMEZONE
TZID:Europe/Prague
BEGIN:DAYLIGHT
TZOFFSETFROM:+0100
TZOFFSETTO:+0200
TZNAME:CEST
DTSTART:20260329T010000
END:DAYLIGHT
BEGIN:STANDARD
TZOFFSETFROM:+0200
TZOFFSETTO:+0100
TZNAME:CET
DTSTART:20261025T010000
END:STANDARD
END:VTIMEZONE
BEGIN:VEVENT
DTSTART;TZID=Europe/Prague:20260421T080000
DTEND;TZID=Europe/Prague:20260421T093000
DTSTAMP:20260421T021546
CREATED:20260409T092251Z
LAST-MODIFIED:20260409T092251Z
UID:19704-1776758400-1776763800@www.nahabru.cz
SUMMARY:TV - Rebels gym - 2.M\, 2.O
DESCRIPTION:
URL:https://www.nahabru.cz/akce-skoly/tv-rebels-gym-2-m-2-o/
END:VEVENT
BEGIN:VEVENT
DTSTART;TZID=Europe/Prague:20260421T103000
DTEND;TZID=Europe/Prague:20260421T120000
DTSTAMP:20260421T021546
CREATED:20260409T092113Z
LAST-MODIFIED:20260409T092113Z
UID:19702-1776767400-1776772800@www.nahabru.cz
SUMMARY:Beseda v knihovně - 3. roč. Montessori
DESCRIPTION:
URL:https://www.nahabru.cz/akce-skoly/beseda-v-knihovne-3-roc-montessori/
END:VEVENT
END:VCALENDAR