BEGIN:VCALENDAR
VERSION:2.0
PRODID:-//Základní škola Na Habru Hořice - ECPv6.2.9//NONSGML v1.0//EN
CALSCALE:GREGORIAN
METHOD:PUBLISH
X-WR-CALNAME:Základní škola Na Habru Hořice
X-ORIGINAL-URL:https://www.nahabru.cz
X-WR-CALDESC:Akce na Základní škola Na Habru Hořice
REFRESH-INTERVAL;VALUE=DURATION:PT1H
X-Robots-Tag:noindex
X-PUBLISHED-TTL:PT1H
BEGIN:VTIMEZONE
TZID:Europe/Prague
BEGIN:DAYLIGHT
TZOFFSETFROM:+0100
TZOFFSETTO:+0200
TZNAME:CEST
DTSTART:20260329T010000
END:DAYLIGHT
BEGIN:STANDARD
TZOFFSETFROM:+0200
TZOFFSETTO:+0100
TZNAME:CET
DTSTART:20261025T010000
END:STANDARD
END:VTIMEZONE
BEGIN:VEVENT
DTSTART;TZID=Europe/Prague:20260422T080000
DTEND;TZID=Europe/Prague:20260424T170000
DTSTAMP:20260424T015520
CREATED:20260409T092600Z
LAST-MODIFIED:20260409T092600Z
UID:19706-1776844800-1777050000@www.nahabru.cz
SUMMARY:Tripartity - Montessori 3. trojročí
DESCRIPTION:
URL:https://www.nahabru.cz/akce-skoly/tripartity-montessori-3-trojroci/
END:VEVENT
BEGIN:VEVENT
DTSTART;TZID=Europe/Prague:20260424T080000
DTEND;TZID=Europe/Prague:20260424T140000
DTSTAMP:20260424T015520
CREATED:20260409T092743Z
LAST-MODIFIED:20260409T092743Z
UID:19710-1777017600-1777039200@www.nahabru.cz
SUMMARY:Den Země - Montessori
DESCRIPTION:
URL:https://www.nahabru.cz/akce-skoly/den-zeme-montessori/
END:VEVENT
BEGIN:VEVENT
DTSTART;TZID=Europe/Prague:20260424T104500
DTEND;TZID=Europe/Prague:20260424T113000
DTSTAMP:20260424T015520
CREATED:20260409T092706Z
LAST-MODIFIED:20260409T092706Z
UID:19708-1777027500-1777030200@www.nahabru.cz
SUMMARY:Lekce KiVa 5.A
DESCRIPTION:
URL:https://www.nahabru.cz/akce-skoly/lekce-kiva-5-a-2/
END:VEVENT
END:VCALENDAR